BEGIN:VCALENDAR
VERSION:2.0
PRODID:-//wp-events-plugin.com//7.1.7//EN
TZID:America/Los_Angeles
X-WR-TIMEZONE:America/Los_Angeles
BEGIN:VEVENT
UID:5@abrilbooks.com
DTSTART;TZID=America/Los_Angeles:20260512T190000
DTEND;TZID=America/Los_Angeles:20260512T210000
DTSTAMP:20260422T212358Z
URL:https://abrilbooks.com/events/author-talk-with-joze-piranian/
SUMMARY:Author Talk with Joze Piranian
DESCRIPTION:Armenian Film Society &amp\; Abril Books\npresent\n\nAn Author 
 Talk with\nJOZE PIRANIAN\n\npresenting his newly release book\n\nSTOP HOLD
 ING BACK\n An Honest Guide to Turning Fear into Action\n\nAdmission is Fre
 e. For more information\, call (818) 243-4112.\n\nParking at Orange Street
  Parking Structure 222 N. Orange St\, Glendale\, CA 91203. First 90 minute
 s free\, $2.00 per hour.\n\nDrawing on Joze’s own incredible journey fro
 m being afraid to speak\, due to a debilitating stutter\, to becoming an a
 ward-winning speaker and stand-up comedian\, Stop Holding Back will help y
 ou harness fear as a catalyst for personal and professional growth. With p
 ractical strategies\, simple daily habits and inspiring true stories of ch
 ange\, you’ll discover how to:\n\n• Disrupt the Hollywood Fallacy: C
 hange rarely happens in a single dramatic breakthrough. It’s built in sm
 all\, everyday acts of courage—micro-moments of bravery where you choose
  to speak up\, take action\, or show up.\n• Let Fear and Action Coexist:
  You don’t have to wait to be fearless to act. When you move forward de
 spite fear\, you win—regardless of the result. Action builds resilience\
 , confidence\, and progress.\n• Stop Trading Long-Term Growth for Short-
 Term Comfort: Avoiding what scares you might feel safe today\, but it cos
 ts you growth\, fulfillment\, and opportunity tomorrow.\n• Reframe the P
 ain: Most fear-inducing moments are psychological discomforts that last j
 ust seconds. Facing them can unlock change.\n• Follow the Fear Compass:
  What scares you might point directly to the next chapter of growth. Let 
 fear guide you toward purpose\, not away from it.\n\nYour life today does 
 not have to dictate your life tomorrow\; change is possible. Your fears mi
 ght never stop\, so why should you?\n\nJOZE PIRANIAN is a lifelong stutte
 rer turned speaker and stand-up comedian. Growing up in Lebanon with a deb
 ilitating stutter\, Joze avoided speaking almost entirely for more than 25
  years. In the past six years\, everything changed when Joze turned his ob
 stacle into triumphant public speaking and stand-up comedy performances in
  three continents and four languages (he stutters in six of them). Joze ha
 s delivered speeches at organizations such as the FBI\, the United Nations
 \, Google\, Meta\, TikTok\, Tesla\, IBM\, BCG\, Deloitte\, Dell\, Scotiaba
 nk\, Rogers\, Bell and also spoken at universities\, (including his two al
 ma matters: McGill University and Queen’s University). Joze lives in Tor
 onto.\n\n&nbsp\;
ATTACH;FMTTYPE=image/jpeg:https://abrilbooks.com/wp-content/uploads/2026/0
 4/joze-FB2.jpg
LOCATION:Center for Armenian Arts\, 250 N. Orange St.\, Glendale\, CA\, 912
 03\, United States
X-APPLE-STRUCTURED-LOCATION;VALUE=URI;X-ADDRESS=250 N. Orange St.\, Glendal
 e\, CA\, 91203\, United States;X-APPLE-RADIUS=100;X-TITLE=Center for Armen
 ian Arts:geo:0,0
END:VEVENT
BEGIN:VTIMEZONE
TZID:America/Los_Angeles
X-LIC-LOCATION:America/Los_Angeles
BEGIN:DAYLIGHT
DTSTART:20260308T030000
TZOFFSETFROM:-0800
TZOFFSETTO:-0700
TZNAME:PDT
END:DAYLIGHT
END:VTIMEZONE
END:VCALENDAR